BEGIN:VCALENDAR
VERSION:2.0
PRODID:-//Rosicrucian Order AMORC - ECPv6.15.17.1//NONSGML v1.0//EN
CALSCALE:GREGORIAN
METHOD:PUBLISH
X-WR-CALNAME:Rosicrucian Order AMORC
X-ORIGINAL-URL:https://amorc.org
X-WR-CALDESC:Events for Rosicrucian Order AMORC
REFRESH-INTERVAL;VALUE=DURATION:PT1H
X-Robots-Tag:noindex
X-PUBLISHED-TTL:PT1H
BEGIN:VTIMEZONE
TZID:Africa/Lagos
BEGIN:STANDARD
TZOFFSETFROM:+0100
TZOFFSETTO:+0100
TZNAME:WAT
DTSTART:20240101T000000
END:STANDARD
END:VTIMEZONE
BEGIN:VTIMEZONE
TZID:Africa/Accra
BEGIN:STANDARD
TZOFFSETFROM:+0000
TZOFFSETTO:+0000
TZNAME:GMT
DTSTART:20240101T000000
END:STANDARD
END:VTIMEZONE
BEGIN:VTIMEZONE
TZID:Europe/Paris
BEGIN:DAYLIGHT
TZOFFSETFROM:+0100
TZOFFSETTO:+0200
TZNAME:CEST
DTSTART:20230326T010000
END:DAYLIGHT
BEGIN:STANDARD
TZOFFSETFROM:+0200
TZOFFSETTO:+0100
TZNAME:CET
DTSTART:20231029T010000
END:STANDARD
BEGIN:DAYLIGHT
TZOFFSETFROM:+0100
TZOFFSETTO:+0200
TZNAME:CEST
DTSTART:20240331T010000
END:DAYLIGHT
BEGIN:STANDARD
TZOFFSETFROM:+0200
TZOFFSETTO:+0100
TZNAME:CET
DTSTART:20241027T010000
END:STANDARD
BEGIN:DAYLIGHT
TZOFFSETFROM:+0100
TZOFFSETTO:+0200
TZNAME:CEST
DTSTART:20250330T010000
END:DAYLIGHT
BEGIN:STANDARD
TZOFFSETFROM:+0200
TZOFFSETTO:+0100
TZNAME:CET
DTSTART:20251026T010000
END:STANDARD
END:VTIMEZONE
BEGIN:VEVENT
DTSTART;TZID=Africa/Lagos:20260217T040000
DTEND;TZID=Africa/Lagos:20260302T233000
DTSTAMP:20260424T002256
CREATED:20251022T194034Z
LAST-MODIFIED:20251022T194040Z
UID:10000027-1771300800-1772494200@amorc.org
SUMMARY:Embark on a Journey Beyond Time : The 2026 Mystical Pilgrimage to Egypt February 17 to March 2\, 2026
DESCRIPTION:Step into the sacred land where ancient wisdom still whispers through timeless monuments and golden sands. For two extraordinary weeks\, journey through Egypt\,  the birthplace of the great mysteries and experience the timeless mysteries that continue to inspire seekers of Light across the ages. Experience moments of awe and illumination as you stand within temples that have inspired seekers for millennia\, sail along the Nile\, and meditate where the Masters once walked. \nJoin Imperator Claudio Mazzucco  and Grand Master Eugenius Idiodi on this pilgrimage where you will be guided through profound mystical insights and unforgettable experiences. \nDate: 17th February to 2nd March 2026\nDuration: Two weeks of mystical discovery\, reflection and transformation \nSpaces are limited. Secure your place now by registering now:  https://donations.amorcewad.net/FundRaiser/FundRaiserEvent/9V2Rdqv0QA (On the landing page\, please scroll down and read WHAT YOU SHOULD KNOW before clicking PAY NOW). \nFor further enquiries\, please contact the English Grand Lodge for West Africa at gmoffice@amorc.org.ng \nExperience Egypt\, Awaken the Light Within!
URL:https://amorc.org/event/embark-on-a-journey-beyond-time-the-2026-mystical-pilgrimage-to-egypt-february-17-to-march-2-2026/
LOCATION:Egypt\, Egypt
ATTACH;FMTTYPE=image/jpeg:https://amorc.org/wp-content/uploads/2025/10/EGYPT-TWO-WEEKS.jpg
END:VEVENT
BEGIN:VEVENT
DTSTART;VALUE=DATE:20251031
DTEND;VALUE=DATE:20251103
DTSTAMP:20260424T002256
CREATED:20251022T193904Z
LAST-MODIFIED:20251022T193912Z
UID:10000026-1761868800-1762127999@amorc.org
SUMMARY:2025 AMORC Ghana Conclave
DESCRIPTION:The moment we have all been waiting for is here! \nThe 2025 AMORC Ghana Conclave is set to take place from Friday\, 31st October to Sunday\, 2nd November 2025 at the serene and inspiring Accra Lodge\, East Legon – Accra\, Ghana! \nWith interesting presentations and convocation address by Frater Michiel Schillhorn van Veen – Grand Master for Netherlands\, Belgium\, Suriname and the Netherlands Antilles\, get ready for a weekend of illumination\, fellowship\, and spiritual renewal as Rosicrucians from across the Region and other parts of the world gather in an atmosphere of peace\, learning\, and fraternal love for moments of true inner awakening you would not want to miss!\n To register\, please click here: https://forms.office.com/r/Gr3tfzmkCA\n For enquiries and further clarification\, please contact us at: AMORCGhanaConclave@amorc.org.ng \nCome join us on this sacred journey of Light\, Wisdom\, and Love in the beautiful city of Accra.\nLet us make the 2025 Ghana Conclave an unforgettable experience for all! \nPeace profound
URL:https://amorc.org/event/2025-amorc-ghana-conclave/
LOCATION:English Grand Lodge for West Africa
ATTACH;FMTTYPE=image/jpeg:https://amorc.org/wp-content/uploads/2025/10/2025-AMORC-Ghana-Conclave.jpg
END:VEVENT
BEGIN:VEVENT
DTSTART;TZID=Africa/Lagos:20250225T000000
DTEND;TZID=Africa/Lagos:20250310T233000
DTSTAMP:20260424T002256
CREATED:20241115T181004Z
LAST-MODIFIED:20241115T181014Z
UID:10000018-1740441600-1741649400@amorc.org
SUMMARY:2025 Egypt Mystical Retreat
DESCRIPTION:Scheduled for 25th February through 10th March 2025\, join the English Grand lodge for West Africa to explore the Divine by discovering the wonders of Egypt! This 2025 Mystical Retreat in Egypt is your guide to spiritual awakening and enlightenment. \nVisit: Cairo / Giza Pyramids / Egyptian Museum / Aswan / Abu Simble / Kom Ombo / Edfu / Luxor / Nefertari Tomb / Valley of the Kings / Hatshepsut Temple / Luxor / Karnak Temple / Old Cairo / Great Pyramids King’s Chamber / Sphinx \nALSO INCLUDED: \nNefertari Tomb/ Exclusive & Private Visit to Isis Temple/ Horus Temple\, Great Pyramids & Sphinx \nTo participate\, please contact the English Grand Lodge for West Africa on: \nEmail: gmoffice@amorc.org.ng \nTelephone: +234 809 904 7777 (Calls\, WhatsApp & SMS)
URL:https://amorc.org/event/2025-egypt-mystical-retreat/
LOCATION:Egypt\, Egypt
ATTACH;FMTTYPE=image/jpeg:https://amorc.org/wp-content/uploads/2024/11/2025-Egypt-Mystical-Retreat-JPeg-scaled.jpg
END:VEVENT
BEGIN:VEVENT
DTSTART;VALUE=DATE:20241101
DTEND;VALUE=DATE:20241105
DTSTAMP:20260424T002256
CREATED:20240514T055813Z
LAST-MODIFIED:20240515T001713Z
UID:10000004-1730419200-1730764799@amorc.org
SUMMARY:Rosicrucian Convention 2024: Universal Love
DESCRIPTION:Join your fraters and sorores for this historical convention and the installation of Grand Master Eugenius Idiodi.
URL:https://amorc.org/event/rosicrucian-convention-2024-universal-love/
LOCATION:English Grand Lodge for West Africa
ATTACH;FMTTYPE=image/png:https://amorc.org/wp-content/uploads/2024/05/Screenshot-2024-05-14-at-2.02.13 AM-3.png
END:VEVENT
END:VCALENDAR