BEGIN:VCALENDAR
VERSION:2.0
PRODID:-//Rosicrucian Order AMORC - ECPv6.15.17.1//NONSGML v1.0//EN
CALSCALE:GREGORIAN
METHOD:PUBLISH
X-ORIGINAL-URL:https://amorc.org
X-WR-CALDESC:Events for Rosicrucian Order AMORC
REFRESH-INTERVAL;VALUE=DURATION:PT1H
X-Robots-Tag:noindex
X-PUBLISHED-TTL:PT1H
BEGIN:VTIMEZONE
TZID:UTC
BEGIN:STANDARD
TZOFFSETFROM:+0000
TZOFFSETTO:+0000
TZNAME:UTC
DTSTART:20230101T000000
END:STANDARD
END:VTIMEZONE
BEGIN:VEVENT
DTSTART;VALUE=DATE:20250726
DTEND;VALUE=DATE:20250814
DTSTAMP:20260422T130453
CREATED:20240528T133224Z
LAST-MODIFIED:20250715T105112Z
UID:10000011-1753488000-1755129599@amorc.org
SUMMARY:Initiatic Journey through Egypt
DESCRIPTION:Join Imperator Claudio Mazzucco (in Cairo) and Grand Master Julie Scott on this Initiatic Journey through Egypt with your Rosicrucian Family! \nFor itinerary and to register\, please visit Rosicrucian Journey through Ancient Egypt
URL:https://amorc.org/event/initiatic-journey-through-egypt/
ATTACH;FMTTYPE=image/jpeg:https://amorc.org/wp-content/uploads/2024/05/2012-06-14-08.37.20.jpg
ORGANIZER;CN="EGL for the Americas":MAILTO:kwark@rosicrucian.org
END:VEVENT
BEGIN:VEVENT
DTSTART;VALUE=DATE:20241230
DTEND;VALUE=DATE:20250105
DTSTAMP:20260422T130453
CREATED:20240529T065021Z
LAST-MODIFIED:20240530T060207Z
UID:10000013-1735516800-1736035199@amorc.org
SUMMARY:Winter Family Retreat
DESCRIPTION:Join Grand Master Julie Scott\, your family\, and your Rosicrucian community in this relaxing five-night family retreat. We will spend plenty of time outdoors attuning with the Alchemical Elements within and around us. Activities will include hiking in a nearby nature preserve; bird-watching (we are staying between two clusters of the Great Florida Birding Trail); fire-making and music; and swimming with wild manatees in the nearby Crystal River. Included in each day’s activities will be Meditation and Psychic Attunements. \nFor more information\, please visit: Winter Family Retreat
URL:https://amorc.org/event/winter-family-retreat/
LOCATION:Florida
ATTACH;FMTTYPE=image/jpeg:https://amorc.org/wp-content/uploads/2024/05/shutterstock_1784815898-1.jpg
ORGANIZER;CN="EGL for the Americas":MAILTO:kwark@rosicrucian.org
END:VEVENT
BEGIN:VEVENT
DTSTART;VALUE=DATE:20241016
DTEND;VALUE=DATE:20241101
DTSTAMP:20260422T130453
CREATED:20240528T142058Z
LAST-MODIFIED:20240714T182512Z
UID:10000012-1729036800-1730419199@amorc.org
SUMMARY:Journey through Central Europe with your Rosicrucian Family
DESCRIPTION:Immerse yourself in the beauty and mystique of Central Europe\, from prehistory 36\,000 years ago to ancient Roman times to the transformative periods of the Alchemists\, the Renaissance\, and the Enlightenment. Together with Grand Master Julie Scott\, and your fellow fratres and sorores\, explore Buda\, Pest\, and Tata\, Hungary; Vienna\, Admont\, and Melk\, Austria; and Cesky Krumlov and Prague\, Czech Republic\, including eight UNESCO World Heritage sites. You are also invited to join our optional extension to Krakow\, Czestochowa\, and Warsaw\, Poland. \nWe’ll experience: ancient Roman ruins\, including a Mithraic temple and the location where the Stoic emperor\, Marcus Aurelius\, wrote some of his “Meditations”; the personal Alchemy Laboratory of the mystical Emperor Rudolph II\, as well as the largest collection of objects from his personal museum; the largest monastery library in the world; the house where Mozart lived\, and a concert in the oldest concert hall in Vienna where he played; private walking tours through the most important historic districts (Budapest\, Vienna\, and Prague); guided tours through Buda Castle\, Schonbrunn Palace (the summer residence of the Habsburg rulers)\, and Prague Castle\, including the Alchemical Golden Lane; a private visit to the personal apartment and museum of Maria Szepes\, the author of the classic alchemical book\, The Red Lion; historic cathedrals and abbeys\, dinner cruises on the Danube and Vltava rivers; and a private visit to the headquarters of the Hungarian Grand Lodge. \nYou’ll also have the opportunity to explore: historic palaces (including the Hofburg\, Belvedere\, and Lobkowicz palaces); Vienna’s Natural History Museum with the prehistoric Venus of Willendorf and Galgenberg figurines; and fine arts museums (Budapest and the Belvedere) during your free time. \nDetailed Itinerary and Registration Information
URL:https://amorc.org/event/journey-through-central-europe-with-your-rosicrucian-family/
LOCATION:Central Europe
ATTACH;FMTTYPE=image/png:https://amorc.org/wp-content/uploads/2024/05/Screenshot-2024-07-14-at-11.24.37 AM-1.png
ORGANIZER;CN="EGL for the Americas":MAILTO:kwark@rosicrucian.org
END:VEVENT
END:VCALENDAR